BEGIN:VCALENDAR
VERSION:2.0
PRODID:-//Harold Meltzer, composer - ECPv5.0.2.1//NONSGML v1.0//EN
CALSCALE:GREGORIAN
METHOD:PUBLISH
X-WR-CALNAME:Harold Meltzer, composer
X-ORIGINAL-URL:https://haroldmeltzer.com
X-WR-CALDESC:Events for Harold Meltzer, composer
BEGIN:VTIMEZONE
TZID:UTC
BEGIN:STANDARD
TZOFFSETFROM:+0000
TZOFFSETTO:+0000
TZNAME:UTC
DTSTART:20160101T000000
END:STANDARD
END:VTIMEZONE
BEGIN:VEVENT
DTSTART;TZID=UTC:20161027T210000
DTEND;TZID=UTC:20161027T230000
DTSTAMP:20210427T211111
CREATED:20160716T003703Z
LAST-MODIFIED:20160722T214429Z
UID:839-1477602000-1477609200@haroldmeltzer.com
SUMMARY:Brion @ Chamber Music Society of Lincoln Center
DESCRIPTION:The Chamber Music Society of Lincoln Center performs Harold’s sextet Brion in a pair of concerts\, at 6:30 pm and 9:00 pm\, at the Rose Studio at Lincoln Center in New York City. \n
URL:https://haroldmeltzer.com/event/brion-rose-studio-lincoln-center-2/
LOCATION:VARIATIONS ON A SUMMER DAY website excerpts
ATTACH;FMTTYPE=image/jpeg:https://haroldmeltzer.com/wp-content/uploads/2015/12/Lighter-Cover-Photo.jpg
END:VEVENT
END:VCALENDAR