BEGIN:VCALENDAR
VERSION:2.0
PRODID:-//Harold Meltzer, composer - ECPv5.9.1//NONSGML v1.0//EN
CALSCALE:GREGORIAN
METHOD:PUBLISH
X-WR-CALNAME:Harold Meltzer, composer
X-ORIGINAL-URL:https://haroldmeltzer.com
X-WR-CALDESC:Events for Harold Meltzer, composer
BEGIN:VTIMEZONE
TZID:UTC
BEGIN:STANDARD
TZOFFSETFROM:+0000
TZOFFSETTO:+0000
TZNAME:UTC
DTSTART:20170101T000000
END:STANDARD
END:VTIMEZONE
BEGIN:VEVENT
DTSTART;TZID=UTC:20170513T203000
DTEND;TZID=UTC:20170513T220000
DTSTAMP:20211011T163126
CREATED:20170510T002506Z
LAST-MODIFIED:20170510T002951Z
UID:1228-1494707400-1494712800@haroldmeltzer.com
SUMMARY:Beautiful Ohio at Juilliard
DESCRIPTION:Tenor Ryan Brideau and pianist JiYung Lee perform Beautiful Ohio\, five settings of poems by James Wright\, at Paul Haul at The Juilliard School in New York City.
URL:https://haroldmeltzer.com/event/beautiful-ohio-at-juilliard/
LOCATION:Paul Hall\, The Juilliard School\, 60 Lincoln Plaza\, New York\, NY\, 10023\, United States
ATTACH;FMTTYPE=image/jpeg:https://haroldmeltzer.com/wp-content/uploads/OHIO-RiverOhio.jpg
END:VEVENT
END:VCALENDAR