BEGIN:VCALENDAR
VERSION:2.0
PRODID:-//Harold Meltzer, composer - ECPv5.0.2.1//NONSGML v1.0//EN
CALSCALE:GREGORIAN
METHOD:PUBLISH
X-WR-CALNAME:Harold Meltzer, composer
X-ORIGINAL-URL:https://haroldmeltzer.com
X-WR-CALDESC:Events for Harold Meltzer, composer
BEGIN:VTIMEZONE
TZID:UTC
BEGIN:STANDARD
TZOFFSETFROM:+0000
TZOFFSETTO:+0000
TZNAME:UTC
DTSTART:20160101T000000
END:STANDARD
END:VTIMEZONE
BEGIN:VEVENT
DTSTART;VALUE=DATE:20160624
DTEND;VALUE=DATE:20160625
DTSTAMP:20210515T044625
CREATED:20151125T015744Z
LAST-MODIFIED:20151125T015744Z
UID:99-1466726400-1466812799@haroldmeltzer.com
SUMMARY:In Full Sail: Nadia Shpachenko @ Bargemusic
DESCRIPTION:Pianist Nadia Shpachenko performs Harold’s In Full Sail at Bargemusic in Brooklyn\, New York. \n
URL:https://haroldmeltzer.com/event/99/
LOCATION:Bargemusic\, 2 Old Fulton St.\, Brooklyn\, NY\, 11201\, United States
ATTACH;FMTTYPE=image/jpeg:https://haroldmeltzer.com/wp-content/uploads/2015/12/unnamed.jpg
END:VEVENT
END:VCALENDAR