BEGIN:VCALENDAR
VERSION:2.0
PRODID:-//Harold Meltzer, composer - ECPv5.0.2.1//NONSGML v1.0//EN
CALSCALE:GREGORIAN
METHOD:PUBLISH
X-WR-CALNAME:Harold Meltzer, composer
X-ORIGINAL-URL:https://haroldmeltzer.com
X-WR-CALDESC:Events for Harold Meltzer, composer
BEGIN:VTIMEZONE
TZID:UTC
BEGIN:STANDARD
TZOFFSETFROM:+0000
TZOFFSETTO:+0000
TZNAME:UTC
DTSTART:20160101T000000
END:STANDARD
END:VTIMEZONE
BEGIN:VEVENT
DTSTART;VALUE=DATE:20160724
DTEND;VALUE=DATE:20160725
DTSTAMP:20210515T044520
CREATED:20151125T015123Z
LAST-MODIFIED:20151125T015123Z
UID:95-1469318400-1469404799@haroldmeltzer.com
SUMMARY:Variations on a Summer Day: Tanglewood 2016
DESCRIPTION:The 2016 Festival of Contemporary Music at Tanglewood features the first performance of Harold’s completed Variations on a Summer Day\, by the Tanglewood Music Fellows\, in Lenox\, Massachusetts. \n
URL:https://haroldmeltzer.com/event/95/
ATTACH;FMTTYPE=image/jpeg:https://haroldmeltzer.com/wp-content/uploads/2015/12/variations-summer.jpg
END:VEVENT
END:VCALENDAR