BEGIN:VCALENDAR
VERSION:2.0
PRODID:-//Harold Meltzer, composer - ECPv5.0.2.1//NONSGML v1.0//EN
CALSCALE:GREGORIAN
METHOD:PUBLISH
X-WR-CALNAME:Harold Meltzer, composer
X-ORIGINAL-URL:http://haroldmeltzer.com
X-WR-CALDESC:Events for Harold Meltzer, composer
BEGIN:VTIMEZONE
TZID:America/New_York
BEGIN:DAYLIGHT
TZOFFSETFROM:-0500
TZOFFSETTO:-0400
TZNAME:EDT
DTSTART:20190310T070000
END:DAYLIGHT
BEGIN:STANDARD
TZOFFSETFROM:-0400
TZOFFSETTO:-0500
TZNAME:EST
DTSTART:20191103T060000
END:STANDARD
END:VTIMEZONE
BEGIN:VEVENT
DTSTART;VALUE=DATE:20190104
DTEND;VALUE=DATE:20190120
DTSTAMP:20211007T135528
CREATED:20181003T165224Z
LAST-MODIFIED:20181003T165224Z
UID:1600-1546560000-1547942399@haroldmeltzer.com
SUMMARY:Yaddo
DESCRIPTION:Harold disappears briefly to Yaddo to get some uninterrupted work time. \n
URL:http://haroldmeltzer.com/event/yaddo/
LOCATION:Yaddo\, Saratoga Springs\, NY
ATTACH;FMTTYPE=image/jpeg:http://haroldmeltzer.com/wp-content/uploads/images.jpeg
END:VEVENT
END:VCALENDAR