BEGIN:VCALENDAR
VERSION:2.0
PRODID:-//Harold Meltzer, composer - ECPv5.0.2.1//NONSGML v1.0//EN
CALSCALE:GREGORIAN
METHOD:PUBLISH
X-WR-CALNAME:Harold Meltzer, composer
X-ORIGINAL-URL:http://haroldmeltzer.com
X-WR-CALDESC:Events for Harold Meltzer, composer
BEGIN:VTIMEZONE
TZID:America/New_York
BEGIN:DAYLIGHT
TZOFFSETFROM:-0500
TZOFFSETTO:-0400
TZNAME:EDT
DTSTART:20190310T070000
END:DAYLIGHT
BEGIN:STANDARD
TZOFFSETFROM:-0400
TZOFFSETTO:-0500
TZNAME:EST
DTSTART:20191103T060000
END:STANDARD
END:VTIMEZONE
BEGIN:VEVENT
DTSTART;VALUE=DATE:20190715
DTEND;VALUE=DATE:20190731
DTSTAMP:20211002T153904
CREATED:20180720T143327Z
LAST-MODIFIED:20180720T143327Z
UID:1522-1563148800-1564531199@haroldmeltzer.com
SUMMARY:Weekend of Chamber Music
DESCRIPTION:Harold will join the Weekend of Chamber Music\, in the Catskills upstate New York\, as the 2019 Composer-in-Residence. \n
URL:http://haroldmeltzer.com/event/weekend-of-chamber-music/
ATTACH;FMTTYPE=image/jpeg:http://haroldmeltzer.com/wp-content/uploads/28-1024x683.jpg
END:VEVENT
END:VCALENDAR