BEGIN:VCALENDAR
VERSION:2.0
PRODID:-//Harold Meltzer, composer - ECPv5.0.2.1//NONSGML v1.0//EN
CALSCALE:GREGORIAN
METHOD:PUBLISH
X-WR-CALNAME:Harold Meltzer, composer
X-ORIGINAL-URL:http://haroldmeltzer.com
X-WR-CALDESC:Events for Harold Meltzer, composer
BEGIN:VTIMEZONE
TZID:UTC
BEGIN:STANDARD
TZOFFSETFROM:+0000
TZOFFSETTO:+0000
TZNAME:UTC
DTSTART:20190101T000000
END:STANDARD
END:VTIMEZONE
BEGIN:VEVENT
DTSTART;TZID=UTC:20190403T193000
DTEND;TZID=UTC:20190403T213000
DTSTAMP:20211002T154521
CREATED:20180530T060557Z
LAST-MODIFIED:20180530T061034Z
UID:1445-1554319800-1554327000@haroldmeltzer.com
SUMMARY:Variations on a Summer Day at UT Austin
DESCRIPTION:Mezzo-soprano Page Stephens\, and the UT New Music Ensemble at the Butler School of Music\, conducted by Dan Welcher\, perform Harold’s Variations on a Summer Day for voice and nine instruments. \n
URL:http://haroldmeltzer.com/event/variations-on-a-summer-day-at-ut-austin/
LOCATION:Bates Recital Hall\, Butler School of Music\, UT Austin\, Austin\, TX\, 78712
ATTACH;FMTTYPE=image/jpeg:http://haroldmeltzer.com/wp-content/uploads/2015/12/variations-summer-2.jpg
END:VEVENT
END:VCALENDAR