BEGIN:VCALENDAR
VERSION:2.0
PRODID:-//Harold Meltzer, composer - ECPv5.0.2.1//NONSGML v1.0//EN
CALSCALE:GREGORIAN
METHOD:PUBLISH
X-WR-CALNAME:Harold Meltzer, composer
X-ORIGINAL-URL:http://haroldmeltzer.com
X-WR-CALDESC:Events for Harold Meltzer, composer
BEGIN:VTIMEZONE
TZID:UTC
BEGIN:STANDARD
TZOFFSETFROM:+0000
TZOFFSETTO:+0000
TZNAME:UTC
DTSTART:20190101T000000
END:STANDARD
END:VTIMEZONE
BEGIN:VEVENT
DTSTART;TZID=UTC:20190201T200000
DTEND;TZID=UTC:20190201T200000
DTSTAMP:20211007T135605
CREATED:20180705T175517Z
LAST-MODIFIED:20180705T223902Z
UID:1488-1549051200-1549051200@haroldmeltzer.com
SUMMARY:Variations on a Summer Day at Norway's Ilios Festival
DESCRIPTION:Mezzo-soprano Marianne Beate Kielland\, and the Arctic Philharmonic Sinfonietta conducted by Tim Weiss\, perform the European premiere of Harold’s Variations on a Summer Day\, at the Ilios New Music Festival at the Harstad Kulturhus in Harstad\, Troms\, Norway. \n
URL:http://haroldmeltzer.com/event/variations-on-a-summer-day-at-norways-ilios-festival/
LOCATION:Harstad Kulturhus\, Havnegata 3\, Harstad\, Troms\, 9404\, Norway
ATTACH;FMTTYPE=image/jpeg:http://haroldmeltzer.com/wp-content/uploads/Unknown-16.jpeg
END:VEVENT
END:VCALENDAR