BEGIN:VCALENDAR
VERSION:2.0
PRODID:-//Harold Meltzer, composer - ECPv5.0.2.1//NONSGML v1.0//EN
CALSCALE:GREGORIAN
METHOD:PUBLISH
X-WR-CALNAME:Harold Meltzer, composer
X-ORIGINAL-URL:http://haroldmeltzer.com
X-WR-CALDESC:Events for Harold Meltzer, composer
BEGIN:VTIMEZONE
TZID:UTC
BEGIN:STANDARD
TZOFFSETFROM:+0000
TZOFFSETTO:+0000
TZNAME:UTC
DTSTART:20160101T000000
END:STANDARD
END:VTIMEZONE
BEGIN:VEVENT
DTSTART;VALUE=DATE:20161105
DTEND;VALUE=DATE:20161106
DTSTAMP:20210516T064159
CREATED:20160719T222832Z
LAST-MODIFIED:20160719T222832Z
UID:755-1478304000-1478390399@haroldmeltzer.com
SUMMARY:The Jig Is Up @ Royal College of Music
DESCRIPTION:Junior Department students of the Royal College of Music in London give first performances of the complete Spectrum 5\, a collection of short new works for amateur or student pianists. Spectrum 5 includes Harold’s The Jig is Up\, commissioned for the project by the Associated Board of the Royal Schools of Music (ABRSM). Learn more here » \n
URL:http://haroldmeltzer.com/event/the-jig-is-up-royal-college-of-music/
ATTACH;FMTTYPE=image/gif:http://haroldmeltzer.com/wp-content/uploads/2016/07/Spectrum-Jig-Is-Up-2.gif
END:VEVENT
END:VCALENDAR