BEGIN:VCALENDAR
VERSION:2.0
PRODID:-//Harold Meltzer, composer - ECPv5.0.2.1//NONSGML v1.0//EN
CALSCALE:GREGORIAN
METHOD:PUBLISH
X-WR-CALNAME:Harold Meltzer, composer
X-ORIGINAL-URL:http://haroldmeltzer.com
X-WR-CALDESC:Events for Harold Meltzer, composer
BEGIN:VTIMEZONE
TZID:UTC
BEGIN:STANDARD
TZOFFSETFROM:+0000
TZOFFSETTO:+0000
TZNAME:UTC
DTSTART:20190101T000000
END:STANDARD
END:VTIMEZONE
BEGIN:VEVENT
DTSTART;TZID=UTC:20190208T200000
DTEND;TZID=UTC:20190208T220000
DTSTAMP:20211007T135636
CREATED:20180531T000612Z
LAST-MODIFIED:20180531T000612Z
UID:1464-1549656000-1549663200@haroldmeltzer.com
SUMMARY:Sindbad with the Neave Trio at Longy
DESCRIPTION:Harold narrates his piece with the Neave Trio at the Longy School of Music. \n
URL:http://haroldmeltzer.com/event/sindbad-with-the-neave-trio-at-longy/
LOCATION:Pickman Hall\, Longy School of Music\, Cambridge\, MA\, United States
ATTACH;FMTTYPE=image/jpeg:http://haroldmeltzer.com/wp-content/uploads/Unknown-1-2.jpeg
END:VEVENT
END:VCALENDAR