BEGIN:VCALENDAR
VERSION:2.0
PRODID:-//Harold Meltzer, composer - ECPv5.0.2.1//NONSGML v1.0//EN
CALSCALE:GREGORIAN
METHOD:PUBLISH
X-WR-CALNAME:Harold Meltzer, composer
X-ORIGINAL-URL:http://haroldmeltzer.com
X-WR-CALDESC:Events for Harold Meltzer, composer
BEGIN:VTIMEZONE
TZID:UTC
BEGIN:STANDARD
TZOFFSETFROM:+0000
TZOFFSETTO:+0000
TZNAME:UTC
DTSTART:20180101T000000
END:STANDARD
END:VTIMEZONE
BEGIN:VEVENT
DTSTART;TZID=UTC:20181204T193000
DTEND;TZID=UTC:20181204T213000
DTSTAMP:20210523T131303
CREATED:20180602T001156Z
LAST-MODIFIED:20180612T061426Z
UID:1474-1543951800-1543959000@haroldmeltzer.com
SUMMARY:Prometheus Trio and Robert Levine in Milwaukee
DESCRIPTION:The Prometheus Trio\, with guest violist Robert Levine\, perform Harold’s Piano Quartet at the Wisconsin Conservatory of Music. \n
URL:http://haroldmeltzer.com/event/prometheus-trio-and-robert-levine-in-milwaukee/
LOCATION:Wisconsin Conservatory of Music\, 1584 N Prospect Ave\, Milwaukee\, Wisconsin\, 53202
ATTACH;FMTTYPE=image/jpeg:http://haroldmeltzer.com/wp-content/uploads/6902229034_c8a4f974d1_c.jpg
END:VEVENT
END:VCALENDAR