BEGIN:VCALENDAR
VERSION:2.0
PRODID:-//Harold Meltzer, composer - ECPv5.0.2.1//NONSGML v1.0//EN
CALSCALE:GREGORIAN
METHOD:PUBLISH
X-WR-CALNAME:Harold Meltzer, composer
X-ORIGINAL-URL:http://haroldmeltzer.com
X-WR-CALDESC:Events for Harold Meltzer, composer
BEGIN:VTIMEZONE
TZID:America/New_York
BEGIN:DAYLIGHT
TZOFFSETFROM:-0500
TZOFFSETTO:-0400
TZNAME:EDT
DTSTART:20190310T070000
END:DAYLIGHT
BEGIN:STANDARD
TZOFFSETFROM:-0400
TZOFFSETTO:-0500
TZNAME:EST
DTSTART:20191103T060000
END:STANDARD
END:VTIMEZONE
BEGIN:VEVENT
DTSTART;VALUE=DATE:20191013
DTEND;VALUE=DATE:20191014
DTSTAMP:20210515T215231
CREATED:20190325T010111Z
LAST-MODIFIED:20190325T010111Z
UID:1801-1570924800-1571011199@haroldmeltzer.com
SUMMARY:Piano Quartet in Vicenza\, Italy
DESCRIPTION:The Garth Newel Piano Quartet gives the European premiere of Harold’s Piano Quartet at Villa Valmarana Ai Nani in Vicenza\, Italy. \n
URL:http://haroldmeltzer.com/event/piano-quartet-in-vicenza-italy/
LOCATION:Villa Valmarana ai Nani\, Via Dei Nani\, 8\, Vicenza\, 36100\, Italy
ATTACH;FMTTYPE=image/png:http://haroldmeltzer.com/wp-content/uploads/image-3.png
END:VEVENT
END:VCALENDAR