BEGIN:VCALENDAR
VERSION:2.0
PRODID:-//Harold Meltzer, composer - ECPv5.0.2.1//NONSGML v1.0//EN
CALSCALE:GREGORIAN
METHOD:PUBLISH
X-WR-CALNAME:Harold Meltzer, composer
X-ORIGINAL-URL:http://haroldmeltzer.com
X-WR-CALDESC:Events for Harold Meltzer, composer
BEGIN:VTIMEZONE
TZID:America/New_York
BEGIN:DAYLIGHT
TZOFFSETFROM:-0500
TZOFFSETTO:-0400
TZNAME:EDT
DTSTART:20190310T070000
END:DAYLIGHT
BEGIN:STANDARD
TZOFFSETFROM:-0400
TZOFFSETTO:-0500
TZNAME:EST
DTSTART:20191103T060000
END:STANDARD
END:VTIMEZONE
BEGIN:VEVENT
DTSTART;TZID=America/New_York:20190707T150000
DTEND;TZID=America/New_York:20190707T163000
DTSTAMP:20210515T215017
CREATED:20190314T151935Z
LAST-MODIFIED:20190314T151935Z
UID:1796-1562511600-1562517000@haroldmeltzer.com
SUMMARY:Piano Quartet at Garth Newel
DESCRIPTION:The Garth Newel Piano Quartet plays Harold’s Piano Quartet again\, at its summer festival\, in Hot Springs\, Virginia. \n
URL:http://haroldmeltzer.com/event/piano-quartet-at-garth-newel/
LOCATION:Garth Newel Music Center\, 403 Garth Newel Lane\, Hot Springs\, Virginia\, 24445
ATTACH;FMTTYPE=image/jpeg:http://haroldmeltzer.com/wp-content/uploads/IMG_0183-1.jpg
END:VEVENT
END:VCALENDAR