BEGIN:VCALENDAR
VERSION:2.0
PRODID:-//Harold Meltzer, composer - ECPv5.0.2.1//NONSGML v1.0//EN
CALSCALE:GREGORIAN
METHOD:PUBLISH
X-WR-CALNAME:Harold Meltzer, composer
X-ORIGINAL-URL:http://haroldmeltzer.com
X-WR-CALDESC:Events for Harold Meltzer, composer
BEGIN:VTIMEZONE
TZID:America/New_York
BEGIN:DAYLIGHT
TZOFFSETFROM:-0500
TZOFFSETTO:-0400
TZNAME:EDT
DTSTART:20190310T070000
END:DAYLIGHT
BEGIN:STANDARD
TZOFFSETFROM:-0400
TZOFFSETTO:-0500
TZNAME:EST
DTSTART:20191103T060000
END:STANDARD
END:VTIMEZONE
BEGIN:VEVENT
DTSTART;TZID=America/New_York:20190413T160000
DTEND;TZID=America/New_York:20190413T170000
DTSTAMP:20210515T214632
CREATED:20190117T192251Z
LAST-MODIFIED:20190117T192251Z
UID:1707-1555171200-1555174800@haroldmeltzer.com
SUMMARY:Mirror Visions Ensemble takes This Land is Ours program upstate New York
DESCRIPTION:The Mirror Visions Ensemble brings its “This Land is Ours” program to Hillsdale\, New York\, where tenor Scott Murphree\, baritone Mischa Bouvier\, and pianist Grant Wenaus perform Harold’s Mordgässchen\, which the ensemble commissioned. \n
URL:http://haroldmeltzer.com/event/mirror-visions-ensemble-takes-this-land-is-ours-program-upstate-new-york/
LOCATION:Roeliff Jansen Community Library\, Hillsdale\, NY
ATTACH;FMTTYPE=image/jpeg:http://haroldmeltzer.com/wp-content/uploads/1512945357893.jpeg
END:VEVENT
END:VCALENDAR