BEGIN:VCALENDAR
VERSION:2.0
PRODID:-//Harold Meltzer, composer - ECPv5.0.2.1//NONSGML v1.0//EN
CALSCALE:GREGORIAN
METHOD:PUBLISH
X-WR-CALNAME:Harold Meltzer, composer
X-ORIGINAL-URL:http://haroldmeltzer.com
X-WR-CALDESC:Events for Harold Meltzer, composer
BEGIN:VTIMEZONE
TZID:America/New_York
BEGIN:DAYLIGHT
TZOFFSETFROM:-0500
TZOFFSETTO:-0400
TZNAME:EDT
DTSTART:20190310T070000
END:DAYLIGHT
BEGIN:STANDARD
TZOFFSETFROM:-0400
TZOFFSETTO:-0500
TZNAME:EST
DTSTART:20191103T060000
END:STANDARD
END:VTIMEZONE
BEGIN:VEVENT
DTSTART;TZID=America/New_York:20190427T153000
DTEND;TZID=America/New_York:20190427T163000
DTSTAMP:20210515T214748
CREATED:20190117T193739Z
LAST-MODIFIED:20190117T193739Z
UID:1713-1556379000-1556382600@haroldmeltzer.com
SUMMARY:Mirror Visions Ensemble sings This Land is Ours program in Paris
DESCRIPTION:The Mirror Visions Ensemble brings its “This Land is Ours” program to the Musée des Arts Décoratifs in Paris where tenor Scott Murphree\, baritone Mischa Bouvier\, and pianist Grant Wenaus perform Harold’s Mordgässchen\, which the ensemble commissioned. \n
URL:http://haroldmeltzer.com/event/mirror-visions-ensemble-sings-this-land-is-ours-program-in-paris/
LOCATION:Musée des Arts Décoratifs\, Paris
ATTACH;FMTTYPE=image/png:http://haroldmeltzer.com/wp-content/uploads/image-1.png
END:VEVENT
END:VCALENDAR