BEGIN:VCALENDAR
VERSION:2.0
PRODID:-//Harold Meltzer, composer - ECPv5.0.2.1//NONSGML v1.0//EN
CALSCALE:GREGORIAN
METHOD:PUBLISH
X-WR-CALNAME:Harold Meltzer, composer
X-ORIGINAL-URL:http://haroldmeltzer.com
X-WR-CALDESC:Events for Harold Meltzer, composer
BEGIN:VTIMEZONE
TZID:UTC
BEGIN:STANDARD
TZOFFSETFROM:+0000
TZOFFSETTO:+0000
TZNAME:UTC
DTSTART:20190101T000000
END:STANDARD
END:VTIMEZONE
BEGIN:VEVENT
DTSTART;TZID=UTC:20190126T170000
DTEND;TZID=UTC:20190126T210000
DTSTAMP:20211002T154241
CREATED:20180530T001040Z
LAST-MODIFIED:20180603T030115Z
UID:1426-1548522000-1548536400@haroldmeltzer.com
SUMMARY:Meltzer\, Meatballs\, and Microbrews
DESCRIPTION:The Garth Newel Piano Quartet performs Harold’s Piano Quartet as part of its Pub Series. \n
URL:http://haroldmeltzer.com/event/meltzer-meatballs-and-microbrews/
LOCATION:Garth Newel Music Center\, 403 Garth Newel Lane\, Hot Springs\, Virginia\, 24445
ATTACH;FMTTYPE=image/jpeg:http://haroldmeltzer.com/wp-content/uploads/IMG_0183-1.jpg
END:VEVENT
END:VCALENDAR