BEGIN:VCALENDAR
VERSION:2.0
PRODID:-//Harold Meltzer, composer - ECPv5.0.2.1//NONSGML v1.0//EN
CALSCALE:GREGORIAN
METHOD:PUBLISH
X-WR-CALNAME:Harold Meltzer, composer
X-ORIGINAL-URL:http://haroldmeltzer.com
X-WR-CALDESC:Events for Harold Meltzer, composer
BEGIN:VTIMEZONE
TZID:UTC
BEGIN:STANDARD
TZOFFSETFROM:+0000
TZOFFSETTO:+0000
TZNAME:UTC
DTSTART:20160101T000000
END:STANDARD
END:VTIMEZONE
BEGIN:VEVENT
DTSTART;VALUE=DATE:20160927
DTEND;VALUE=DATE:20161018
DTSTAMP:20210509T033009
CREATED:20160810T215830Z
LAST-MODIFIED:20160810T215830Z
UID:1069-1474934400-1476748799@haroldmeltzer.com
SUMMARY:MacDowell Colony residency
DESCRIPTION:Harold will be in residence at the MacDowell Colony from September 27 to October 17 \n
URL:http://haroldmeltzer.com/event/macdowell-colony-residency/
LOCATION:MacDowell Colony\, Peterborough\, NH\, United States
END:VEVENT
END:VCALENDAR