BEGIN:VCALENDAR
VERSION:2.0
PRODID:-//Harold Meltzer, composer - ECPv5.0.2.1//NONSGML v1.0//EN
CALSCALE:GREGORIAN
METHOD:PUBLISH
X-WR-CALNAME:Harold Meltzer, composer
X-ORIGINAL-URL:http://haroldmeltzer.com
X-WR-CALDESC:Events for Harold Meltzer, composer
BEGIN:VTIMEZONE
TZID:UTC
BEGIN:STANDARD
TZOFFSETFROM:+0000
TZOFFSETTO:+0000
TZNAME:UTC
DTSTART:20180101T000000
END:STANDARD
END:VTIMEZONE
BEGIN:VEVENT
DTSTART;TZID=UTC:20180505T160000
DTEND;TZID=UTC:20180505T180000
DTSTAMP:20210528T041246
CREATED:20180212T192030Z
LAST-MODIFIED:20180212T192030Z
UID:1382-1525536000-1525543200@haroldmeltzer.com
SUMMARY:Jory Vinikour Performs Toccatas in Chicago
DESCRIPTION:Harpsichordist Jory Vinikour performs the five Toccatas for Harpsichord on a chamber concert of the Chicago Philharmonic. \n
URL:http://haroldmeltzer.com/event/jory-vinikour-performs-toccatas-in-chicago/
LOCATION:KAM Isaiah Israel\, 1100 East Hyde Park Blvd\, Chicago\, IL\, 60615
ATTACH;FMTTYPE=image/jpeg:http://haroldmeltzer.com/wp-content/uploads/Unknown-1-1.jpeg
END:VEVENT
END:VCALENDAR