BEGIN:VCALENDAR
VERSION:2.0
PRODID:-//Harold Meltzer, composer - ECPv5.0.2.1//NONSGML v1.0//EN
CALSCALE:GREGORIAN
METHOD:PUBLISH
X-WR-CALNAME:Harold Meltzer, composer
X-ORIGINAL-URL:http://haroldmeltzer.com
X-WR-CALDESC:Events for Harold Meltzer, composer
BEGIN:VTIMEZONE
TZID:America/New_York
BEGIN:DAYLIGHT
TZOFFSETFROM:-0500
TZOFFSETTO:-0400
TZNAME:EDT
DTSTART:20180311T070000
END:DAYLIGHT
BEGIN:STANDARD
TZOFFSETFROM:-0400
TZOFFSETTO:-0500
TZNAME:EST
DTSTART:20181104T060000
END:STANDARD
END:VTIMEZONE
BEGIN:VEVENT
DTSTART;TZID=America/New_York:20181014T200000
DTEND;TZID=America/New_York:20181014T220000
DTSTAMP:20211002T154313
CREATED:20180824T194035Z
LAST-MODIFIED:20180824T194035Z
UID:1545-1539547200-1539554400@haroldmeltzer.com
SUMMARY:Gloria Cheng Plays Garlands for Steven Stucky at Northeastern
DESCRIPTION:Pianist Gloria Cheng plays short piano works by thirty-two composers\, “garlands” in memory of Steven Stucky — including Harold’s “Children’s Crusade” — at Northeastern University in Boston. \n
URL:http://haroldmeltzer.com/event/gloria-cheng-plays-garlands-for-steven-stucky-at-northeastern/
ATTACH;FMTTYPE=image/jpeg:http://haroldmeltzer.com/wp-content/uploads/Unknown-6.jpeg
END:VEVENT
END:VCALENDAR