BEGIN:VCALENDAR
VERSION:2.0
PRODID:-//Harold Meltzer, composer - ECPv5.0.2.1//NONSGML v1.0//EN
CALSCALE:GREGORIAN
METHOD:PUBLISH
X-WR-CALNAME:Harold Meltzer, composer
X-ORIGINAL-URL:http://haroldmeltzer.com
X-WR-CALDESC:Events for Harold Meltzer, composer
BEGIN:VTIMEZONE
TZID:UTC
BEGIN:STANDARD
TZOFFSETFROM:+0000
TZOFFSETTO:+0000
TZNAME:UTC
DTSTART:20180101T000000
END:STANDARD
END:VTIMEZONE
BEGIN:VEVENT
DTSTART;TZID=UTC:20180905T190000
DTEND;TZID=UTC:20180905T210000
DTSTAMP:20211007T135752
CREATED:20180530T171423Z
LAST-MODIFIED:20180530T171439Z
UID:1462-1536174000-1536181200@haroldmeltzer.com
SUMMARY:Full Faith and Credit in Norway
DESCRIPTION:The Arctic Philharmonic Sinfonietta\, conducted by Tim Weiss and with bassoonists Knut Thorbjørnsen and Thea Øyhus\, give the first European performances of Harold’s double concerto Full Faith and Credit. \n
URL:http://haroldmeltzer.com/event/full-faith-and-credit-in-norway-2/
LOCATION:Stormen Konserthus\, Storgata 1B\, Bodø\, 8006\, Norway
ATTACH;FMTTYPE=image/jpeg:http://haroldmeltzer.com/wp-content/uploads/Unknown-13.jpeg
END:VEVENT
END:VCALENDAR