BEGIN:VCALENDAR
VERSION:2.0
PRODID:-//Harold Meltzer, composer - ECPv5.0.2.1//NONSGML v1.0//EN
CALSCALE:GREGORIAN
METHOD:PUBLISH
X-WR-CALNAME:Harold Meltzer, composer
X-ORIGINAL-URL:http://haroldmeltzer.com
X-WR-CALDESC:Events for Harold Meltzer, composer
BEGIN:VTIMEZONE
TZID:UTC
BEGIN:STANDARD
TZOFFSETFROM:+0000
TZOFFSETTO:+0000
TZNAME:UTC
DTSTART:20160101T000000
END:STANDARD
END:VTIMEZONE
BEGIN:VEVENT
DTSTART;TZID=UTC:20161028T200000
DTEND;TZID=UTC:20161028T210000
DTSTAMP:20210523T131626
CREATED:20160716T003334Z
LAST-MODIFIED:20160716T003334Z
UID:833-1477684800-1477688400@haroldmeltzer.com
SUMMARY:Bride of the Island @ Bargemusic
DESCRIPTION:Tenor Paul Appleby and pianist Natalia Katyukova perform the World Premiere of Harold’s song cycle Bride of the Island\, commissioned by the Minnesota Commissioning Club\, and perform Harold’s song cycle Beautiful Ohio\, at Bargemusic in Brooklyn. \n
URL:http://haroldmeltzer.com/event/bride-of-the-island-bargemusic/
LOCATION:Bargemusic\, 2 Old Fulton St.\, Brooklyn\, NY\, 11201\, United States
ATTACH;FMTTYPE=image/jpeg:http://haroldmeltzer.com/wp-content/uploads/2016/07/Bride-of-the-Island.jpg
END:VEVENT
END:VCALENDAR